Package: Path2PPI Version: 1.32.0 Command: rm -rf Path2PPI.buildbin-libdir && mkdir Path2PPI.buildbin-libdir && /Users/biocbuild/BBS/utils/build-universal.sh Path2PPI_1.32.0.tar.gz /Library/Frameworks/R.framework/Resources/bin/R Path2PPI.buildbin-libdir StartedAt: 2024-03-04 00:55:31 -0500 (Mon, 04 Mar 2024) EndedAt: 2024-03-04 00:55:40 -0500 (Mon, 04 Mar 2024) EllapsedTime: 9.0 seconds RetCode: 0 Status: OK PackageFile: Path2PPI_1.32.0.tgz PackageFileSize: 1.267 MiB