Package: PanViz Version: 1.4.0 Command: chmod a+r PanViz -R && F:\biocbuild\bbs-3.18-bioc\R\bin\R.exe CMD build --keep-empty-dirs --no-resave-data PanViz StartedAt: 2024-04-15 20:08:39 -0400 (Mon, 15 Apr 2024) EndedAt: 2024-04-15 20:09:42 -0400 (Mon, 15 Apr 2024) EllapsedTime: 62.6 seconds RetCode: 0 Status: OK PackageFile: PanViz_1.4.0.tar.gz PackageFileSize: 1.885 MiB