Package: PSEA Version: 1.36.0 Command: rm -rf PSEA.buildbin-libdir && mkdir PSEA.buildbin-libdir && /Users/biocbuild/BBS/utils/build-universal.sh PSEA_1.36.0.tar.gz /Library/Frameworks/R.framework/Resources/bin/R PSEA.buildbin-libdir StartedAt: 2024-03-04 00:57:21 -0500 (Mon, 04 Mar 2024) EndedAt: 2024-03-04 00:57:30 -0500 (Mon, 04 Mar 2024) EllapsedTime: 9.1 seconds RetCode: 0 Status: OK PackageFile: PSEA_1.36.0.tgz PackageFileSize: 6.159 MiB