Package: PAIRADISE Version: 1.18.0 Command: /Library/Frameworks/R.framework/Resources/bin/R CMD check --install=check:PAIRADISE.install-out.txt --library=/Library/Frameworks/R.framework/Resources/library --no-vignettes --timings PAIRADISE_1.18.0.tar.gz StartedAt: 2024-03-03 22:23:29 -0500 (Sun, 03 Mar 2024) EndedAt: 2024-03-03 22:28:46 -0500 (Sun, 03 Mar 2024) EllapsedTime: 317.5 seconds RetCode: 0 Status: OK CheckDir: PAIRADISE.Rcheck Warnings: 0