Package: PAIRADISE Version: 1.18.0 Command: rm -rf PAIRADISE.buildbin-libdir && mkdir PAIRADISE.buildbin-libdir && /Users/biocbuild/BBS/utils/build-universal.sh PAIRADISE_1.18.0.tar.gz /Library/Frameworks/R.framework/Resources/bin/R PAIRADISE.buildbin-libdir StartedAt: 2024-03-04 00:55:15 -0500 (Mon, 04 Mar 2024) EndedAt: 2024-03-04 00:55:46 -0500 (Mon, 04 Mar 2024) EllapsedTime: 31.7 seconds RetCode: 0 Status: OK PackageFile: PAIRADISE_1.18.0.tgz PackageFileSize: 381.5 KiB