Package: OmnipathR Version: 3.10.1 Command: rm -rf OmnipathR.buildbin-libdir && mkdir OmnipathR.buildbin-libdir && /Users/biocbuild/BBS/utils/build-universal.sh OmnipathR_3.10.1.tar.gz /Library/Frameworks/R.framework/Resources/bin/R OmnipathR.buildbin-libdir StartedAt: 2024-03-04 00:54:27 -0500 (Mon, 04 Mar 2024) EndedAt: 2024-03-04 00:54:53 -0500 (Mon, 04 Mar 2024) EllapsedTime: 25.9 seconds RetCode: 0 Status: OK PackageFile: OmnipathR_3.10.1.tgz PackageFileSize: 2.779 MiB