############################################################################## ############################################################################## ### ### Running command: ### ### /home/biocbuild/bbs-3.18-bioc/R/bin/R CMD build --keep-empty-dirs --no-resave-data NxtIRFcore ### ############################################################################## ############################################################################## * checking for file ‘NxtIRFcore/DESCRIPTION’ ... OK * preparing ‘NxtIRFcore’: * checking DESCRIPTION meta-information ... OK * cleaning src * running ‘cleanup’ * installing the package to build vignettes ----------------------------------- ERROR: dependency ‘NxtIRFdata’ is not available for package ‘NxtIRFcore’ * removing ‘/tmp/RtmpkDmqbS/Rinst2c3c4a45e95071/NxtIRFcore’ ----------------------------------- ERROR: package installation failed