Package: NormqPCR Version: 1.48.0 Command: /Library/Frameworks/R.framework/Resources/bin/R CMD INSTALL NormqPCR StartedAt: 2024-03-03 15:27:33 -0500 (Sun, 03 Mar 2024) EndedAt: 2024-03-03 15:27:46 -0500 (Sun, 03 Mar 2024) EllapsedTime: 12.4 seconds RetCode: 0 Status: OK