Package: NormqPCR Version: 1.48.0 Command: /Library/Frameworks/R.framework/Resources/bin/R CMD check --install=check:NormqPCR.install-out.txt --library=/Library/Frameworks/R.framework/Resources/library --no-vignettes --timings NormqPCR_1.48.0.tar.gz StartedAt: 2024-03-03 22:13:40 -0500 (Sun, 03 Mar 2024) EndedAt: 2024-03-03 22:15:23 -0500 (Sun, 03 Mar 2024) EllapsedTime: 102.9 seconds RetCode: 0 Status: OK CheckDir: NormqPCR.Rcheck Warnings: 0