Package: NormqPCR Version: 1.48.0 Command: /Library/Frameworks/R.framework/Resources/bin/R CMD build --keep-empty-dirs --no-resave-data NormqPCR StartedAt: 2024-03-03 17:37:03 -0500 (Sun, 03 Mar 2024) EndedAt: 2024-03-03 17:37:26 -0500 (Sun, 03 Mar 2024) EllapsedTime: 22.5 seconds RetCode: 0 Status: OK PackageFile: NormqPCR_1.48.0.tar.gz PackageFileSize: 417.3 KiB