Package: NormqPCR Version: 1.48.0 Command: /home/biocbuild/R/R-4.3.1/bin/R CMD check --install=check:NormqPCR.install-out.txt --library=/home/biocbuild/R/R-4.3.1/site-library --no-vignettes --timings NormqPCR_1.48.0.tar.gz StartedAt: 2023-11-02 12:43:38 -0000 (Thu, 02 Nov 2023) EndedAt: 2023-11-02 12:45:33 -0000 (Thu, 02 Nov 2023) EllapsedTime: 115.3 seconds RetCode: 0 Status: OK CheckDir: NormqPCR.Rcheck Warnings: 0