Package: NoRCE Version: 1.14.0 Command: /Library/Frameworks/R.framework/Resources/bin/R CMD check --install=check:NoRCE.install-out.txt --library=/Library/Frameworks/R.framework/Resources/library --no-vignettes --timings NoRCE_1.14.0.tar.gz StartedAt: 2024-03-03 22:13:16 -0500 (Sun, 03 Mar 2024) EndedAt: 2024-03-03 22:18:46 -0500 (Sun, 03 Mar 2024) EllapsedTime: 330.2 seconds RetCode: 0 Status: OK CheckDir: NoRCE.Rcheck Warnings: 0