Package: MsDataHub Version: 1.2.0 Command: /Library/Frameworks/R.framework/Resources/bin/R CMD INSTALL MsDataHub StartedAt: 2024-03-03 15:45:26 -0500 (Sun, 03 Mar 2024) EndedAt: 2024-03-03 15:45:54 -0500 (Sun, 03 Mar 2024) EllapsedTime: 27.9 seconds RetCode: 0 Status: OK