Package: MsDataHub Version: 1.2.0 Command: /Library/Frameworks/R.framework/Resources/bin/R CMD build --keep-empty-dirs --no-resave-data MsDataHub StartedAt: 2024-03-03 17:29:34 -0500 (Sun, 03 Mar 2024) EndedAt: 2024-03-03 17:31:12 -0500 (Sun, 03 Mar 2024) EllapsedTime: 98.1 seconds RetCode: 0 Status: OK PackageFile: MsDataHub_1.2.0.tar.gz PackageFileSize: 365.6 KiB