Package: MsBackendMassbank Version: 1.10.1 Command: /Library/Frameworks/R.framework/Resources/bin/R CMD build --keep-empty-dirs --no-resave-data MsBackendMassbank StartedAt: 2024-04-15 20:14:13 -0400 (Mon, 15 Apr 2024) EndedAt: 2024-04-15 20:15:13 -0400 (Mon, 15 Apr 2024) EllapsedTime: 60.1 seconds RetCode: 0 Status: OK PackageFile: MsBackendMassbank_1.10.1.tar.gz PackageFileSize: 418 KiB