Package: MotifDb Version: 1.44.0 Command: F:\biocbuild\bbs-3.18-bioc\R\bin\R.exe CMD INSTALL MotifDb StartedAt: 2024-04-15 15:59:20 -0400 (Mon, 15 Apr 2024) EndedAt: 2024-04-15 16:00:16 -0400 (Mon, 15 Apr 2024) EllapsedTime: 55.9 seconds RetCode: 0 Status: OK