Package: MotifDb Version: 1.44.0 Command: /Library/Frameworks/R.framework/Resources/bin/R CMD INSTALL MotifDb StartedAt: 2024-03-03 15:16:36 -0500 (Sun, 03 Mar 2024) EndedAt: 2024-03-03 15:17:35 -0500 (Sun, 03 Mar 2024) EllapsedTime: 59.0 seconds RetCode: 0 Status: OK