Package: MotifDb Version: 1.44.0 Command: /home/biocbuild/R/R-4.3.1/bin/R CMD check --install=check:MotifDb.install-out.txt --library=/home/biocbuild/R/R-4.3.1/site-library --no-vignettes --timings MotifDb_1.44.0.tar.gz StartedAt: 2023-11-02 12:23:11 -0000 (Thu, 02 Nov 2023) EndedAt: 2023-11-02 12:30:50 -0000 (Thu, 02 Nov 2023) EllapsedTime: 458.9 seconds RetCode: 0 Status: WARNINGS CheckDir: MotifDb.Rcheck Warnings: 2