Package: MineICA Version: 1.42.0 Command: /Library/Frameworks/R.framework/Resources/bin/R CMD check --install=check:MineICA.install-out.txt --library=/Library/Frameworks/R.framework/Resources/library --no-vignettes --timings MineICA_1.42.0.tar.gz StartedAt: 2024-03-03 21:48:45 -0500 (Sun, 03 Mar 2024) EndedAt: 2024-03-03 21:53:57 -0500 (Sun, 03 Mar 2024) EllapsedTime: 312.2 seconds RetCode: 0 Status: WARNINGS CheckDir: MineICA.Rcheck Warnings: 3