Package: MSstatsLiP Version: 1.8.2 Command: /home/biocbuild/bbs-3.18-bioc/R/bin/R CMD check --install=check:MSstatsLiP.install-out.txt --library=/home/biocbuild/bbs-3.18-bioc/R/site-library --timings MSstatsLiP_1.8.2.tar.gz StartedAt: 2024-04-16 01:18:02 -0400 (Tue, 16 Apr 2024) EndedAt: 2024-04-16 01:22:04 -0400 (Tue, 16 Apr 2024) EllapsedTime: 241.5 seconds RetCode: 1 Status: ERROR CheckDir: MSstatsLiP.Rcheck Warnings: NA