Package: MOFA2 Version: 1.12.1 Command: /Library/Frameworks/R.framework/Resources/bin/R CMD check --install=check:MOFA2.install-out.txt --library=/Library/Frameworks/R.framework/Resources/library --no-vignettes --timings MOFA2_1.12.1.tar.gz StartedAt: 2024-04-16 05:35:56 -0400 (Tue, 16 Apr 2024) EndedAt: 2024-04-16 05:43:38 -0400 (Tue, 16 Apr 2024) EllapsedTime: 462.2 seconds RetCode: 0 Status: WARNINGS CheckDir: MOFA2.Rcheck Warnings: 1