Package: MOFA2 Version: 1.12.1 Command: rm -rf MOFA2.buildbin-libdir && mkdir MOFA2.buildbin-libdir && /Users/biocbuild/BBS/utils/build-universal.sh MOFA2_1.12.1.tar.gz /Library/Frameworks/R.framework/Resources/bin/R MOFA2.buildbin-libdir StartedAt: 2024-04-16 12:14:36 -0400 (Tue, 16 Apr 2024) EndedAt: 2024-04-16 12:15:30 -0400 (Tue, 16 Apr 2024) EllapsedTime: 54.8 seconds RetCode: 0 Status: OK PackageFile: MOFA2_1.12.1.tgz PackageFileSize: 4.985 MiB