Package: MGFR Version: 1.28.0 Command: /home/biocbuild/bbs-3.18-bioc/R/bin/R CMD build --keep-empty-dirs --no-resave-data MGFR StartedAt: 2024-04-15 17:55:37 -0400 (Mon, 15 Apr 2024) EndedAt: 2024-04-15 17:56:34 -0400 (Mon, 15 Apr 2024) EllapsedTime: 57.0 seconds RetCode: 0 Status: OK PackageFile: MGFR_1.28.0.tar.gz PackageFileSize: 1.631 MiB