Package: MEIGOR Version: 1.36.2 Command: /Library/Frameworks/R.framework/Resources/bin/R CMD INSTALL MEIGOR StartedAt: 2024-04-15 15:44:42 -0400 (Mon, 15 Apr 2024) EndedAt: 2024-04-15 15:45:02 -0400 (Mon, 15 Apr 2024) EllapsedTime: 19.8 seconds RetCode: 0 Status: OK