Package: MEIGOR Version: 1.36.0 Command: /Library/Frameworks/R.framework/Resources/bin/R CMD INSTALL MEIGOR StartedAt: 2024-03-03 15:24:47 -0500 (Sun, 03 Mar 2024) EndedAt: 2024-03-03 15:25:02 -0500 (Sun, 03 Mar 2024) EllapsedTime: 14.5 seconds RetCode: 0 Status: OK