Package: MBECS Version: 1.6.0 Command: F:\biocbuild\bbs-3.18-bioc\R\bin\R.exe CMD check --no-multiarch --install=check:MBECS.install-out.txt --library=F:\biocbuild\bbs-3.18-bioc\R\library --no-vignettes --timings MBECS_1.6.0.tar.gz StartedAt: 2024-04-16 02:19:12 -0400 (Tue, 16 Apr 2024) EndedAt: 2024-04-16 02:23:51 -0400 (Tue, 16 Apr 2024) EllapsedTime: 278.9 seconds RetCode: 0 Status: OK CheckDir: MBECS.Rcheck Warnings: 0