Package: MAI Version: 1.8.0 Command: /home/biocbuild/R/R-4.3.1/bin/R CMD build --keep-empty-dirs --no-resave-data MAI StartedAt: 2023-11-02 02:48:46 -0000 (Thu, 02 Nov 2023) EndedAt: 2023-11-02 02:56:31 -0000 (Thu, 02 Nov 2023) EllapsedTime: 464.6 seconds RetCode: 0 Status: OK PackageFile: MAI_1.8.0.tar.gz PackageFileSize: 519.9 KiB