Package: InteractiveComplexHeatmap Version: 1.10.0 Command: /home/biocbuild/R/R-4.3.1/bin/R CMD INSTALL InteractiveComplexHeatmap StartedAt: 2023-11-01 20:34:08 -0000 (Wed, 01 Nov 2023) EndedAt: 2023-11-01 20:34:26 -0000 (Wed, 01 Nov 2023) EllapsedTime: 17.5 seconds RetCode: 0 Status: OK