Package: INDEED Version: 2.16.0 Command: /Library/Frameworks/R.framework/Resources/bin/R CMD check --install=check:INDEED.install-out.txt --library=/Library/Frameworks/R.framework/Resources/library --no-vignettes --timings INDEED_2.16.0.tar.gz StartedAt: 2024-03-03 21:15:50 -0500 (Sun, 03 Mar 2024) EndedAt: 2024-03-03 21:17:03 -0500 (Sun, 03 Mar 2024) EllapsedTime: 73.2 seconds RetCode: 0 Status: OK CheckDir: INDEED.Rcheck Warnings: 0