Package: HilbertCurve Version: 1.32.0 Command: chmod a+r HilbertCurve -R && F:\biocbuild\bbs-3.18-bioc\R\bin\R.exe CMD build --keep-empty-dirs --no-resave-data HilbertCurve StartedAt: 2024-04-15 19:02:17 -0400 (Mon, 15 Apr 2024) EndedAt: 2024-04-15 19:04:31 -0400 (Mon, 15 Apr 2024) EllapsedTime: 134.2 seconds RetCode: 0 Status: OK PackageFile: HilbertCurve_1.32.0.tar.gz PackageFileSize: 9.01 MiB