Package: HilbertCurve Version: 1.32.0 Command: /Library/Frameworks/R.framework/Resources/bin/R CMD check --install=check:HilbertCurve.install-out.txt --library=/Library/Frameworks/R.framework/Resources/library --no-vignettes --timings HilbertCurve_1.32.0.tar.gz StartedAt: 2024-03-03 21:09:09 -0500 (Sun, 03 Mar 2024) EndedAt: 2024-03-03 21:11:38 -0500 (Sun, 03 Mar 2024) EllapsedTime: 148.9 seconds RetCode: 0 Status: OK CheckDir: HilbertCurve.Rcheck Warnings: 0