Package: HiCcompare Version: 1.24.0 Command: rm -rf HiCcompare.buildbin-libdir && mkdir HiCcompare.buildbin-libdir && /Users/biocbuild/BBS/utils/build-universal.sh HiCcompare_1.24.0.tar.gz /Library/Frameworks/R.framework/Resources/bin/R HiCcompare.buildbin-libdir StartedAt: 2024-04-16 11:56:34 -0400 (Tue, 16 Apr 2024) EndedAt: 2024-04-16 11:59:01 -0400 (Tue, 16 Apr 2024) EllapsedTime: 146.7 seconds RetCode: 0 Status: OK PackageFile: HiCcompare_1.24.0.tgz PackageFileSize: 3.81 MiB