Package: Heatplus Version: 3.10.0 Command: /Library/Frameworks/R.framework/Resources/bin/R CMD INSTALL Heatplus StartedAt: 2024-03-03 15:04:12 -0500 (Sun, 03 Mar 2024) EndedAt: 2024-03-03 15:04:26 -0500 (Sun, 03 Mar 2024) EllapsedTime: 13.9 seconds RetCode: 0 Status: OK