Package: Harman Version: 1.30.0 Command: rm -rf Harman.buildbin-libdir && mkdir Harman.buildbin-libdir && F:\biocbuild\bbs-3.18-bioc\R\bin\R.exe CMD INSTALL --build --library=Harman.buildbin-libdir Harman_1.30.0.tar.gz StartedAt: 2024-04-16 07:07:40 -0400 (Tue, 16 Apr 2024) EndedAt: 2024-04-16 07:08:02 -0400 (Tue, 16 Apr 2024) EllapsedTime: 21.3 seconds RetCode: 0 Status: OK PackageFile: Harman_1.30.0.zip PackageFileSize: 1.192 MiB