Package: Harman Version: 1.30.0 Command: /home/biocbuild/R/R-4.3.1/bin/R CMD build --keep-empty-dirs --no-resave-data Harman StartedAt: 2023-11-02 01:59:32 -0000 (Thu, 02 Nov 2023) EndedAt: 2023-11-02 02:02:50 -0000 (Thu, 02 Nov 2023) EllapsedTime: 198.3 seconds RetCode: 0 Status: OK PackageFile: Harman_1.30.0.tar.gz PackageFileSize: 1.962 MiB