Package: HPiP Version: 1.8.0 Command: rm -rf HPiP.buildbin-libdir && mkdir HPiP.buildbin-libdir && /Users/biocbuild/BBS/utils/build-universal.sh HPiP_1.8.0.tar.gz /Library/Frameworks/R.framework/Resources/bin/R HPiP.buildbin-libdir StartedAt: 2024-03-04 00:45:53 -0500 (Mon, 04 Mar 2024) EndedAt: 2024-03-04 00:46:15 -0500 (Mon, 04 Mar 2024) EllapsedTime: 21.8 seconds RetCode: 0 Status: OK PackageFile: HPiP_1.8.0.tgz PackageFileSize: 4.061 MiB