Package: HIPPO Version: 1.14.0 Command: chmod a+r HIPPO -R && F:\biocbuild\bbs-3.18-bioc\R\bin\R.exe CMD build --keep-empty-dirs --no-resave-data HIPPO StartedAt: 2024-04-15 19:02:34 -0400 (Mon, 15 Apr 2024) EndedAt: 2024-04-15 19:03:19 -0400 (Mon, 15 Apr 2024) EllapsedTime: 44.9 seconds RetCode: 0 Status: OK PackageFile: HIPPO_1.14.0.tar.gz PackageFileSize: 508.3 KiB