Package: HIBAG Version: 1.38.2 Command: /Library/Frameworks/R.framework/Resources/bin/R CMD check --install=check:HIBAG.install-out.txt --library=/Library/Frameworks/R.framework/Resources/library --no-vignettes --timings HIBAG_1.38.2.tar.gz StartedAt: 2024-03-03 21:07:16 -0500 (Sun, 03 Mar 2024) EndedAt: 2024-03-03 21:08:28 -0500 (Sun, 03 Mar 2024) EllapsedTime: 72.7 seconds RetCode: 0 Status: OK CheckDir: HIBAG.Rcheck Warnings: 0