Package: HEM Version: 1.74.0 Command: /Library/Frameworks/R.framework/Resources/bin/R CMD build --keep-empty-dirs --no-resave-data HEM StartedAt: 2024-03-03 17:01:15 -0500 (Sun, 03 Mar 2024) EndedAt: 2024-03-03 17:01:29 -0500 (Sun, 03 Mar 2024) EllapsedTime: 14.7 seconds RetCode: 0 Status: OK PackageFile: HEM_1.74.0.tar.gz PackageFileSize: 611 KiB