Package: HEM Version: 1.74.0 Command: rm -rf HEM.buildbin-libdir && mkdir HEM.buildbin-libdir && /Users/biocbuild/BBS/utils/build-universal.sh HEM_1.74.0.tar.gz /Library/Frameworks/R.framework/Resources/bin/R HEM.buildbin-libdir StartedAt: 2024-03-04 00:45:13 -0500 (Mon, 04 Mar 2024) EndedAt: 2024-03-04 00:45:25 -0500 (Mon, 04 Mar 2024) EllapsedTime: 11.2 seconds RetCode: 0 Status: OK PackageFile: HEM_1.74.0.tgz PackageFileSize: 716.7 KiB