Package: Guitar Version: 2.18.0 Command: /home/biocbuild/bbs-3.18-bioc/R/bin/R CMD check --install=check:Guitar.install-out.txt --library=/home/biocbuild/bbs-3.18-bioc/R/site-library --timings Guitar_2.18.0.tar.gz StartedAt: 2024-04-15 23:35:33 -0400 (Mon, 15 Apr 2024) EndedAt: 2024-04-16 00:04:15 -0400 (Tue, 16 Apr 2024) EllapsedTime: 1721.3 seconds RetCode: 0 Status: OK CheckDir: Guitar.Rcheck Warnings: 0