Package: Guitar Version: 2.18.0 Command: /Library/Frameworks/R.framework/Resources/bin/R CMD INSTALL Guitar StartedAt: 2024-04-15 15:51:27 -0400 (Mon, 15 Apr 2024) EndedAt: 2024-04-15 15:52:42 -0400 (Mon, 15 Apr 2024) EllapsedTime: 75.3 seconds RetCode: 0 Status: OK