Package: Guitar Version: 2.18.0 Command: rm -rf Guitar.buildbin-libdir && mkdir Guitar.buildbin-libdir && /Users/biocbuild/BBS/utils/build-universal.sh Guitar_2.18.0.tar.gz /Library/Frameworks/R.framework/Resources/bin/R Guitar.buildbin-libdir StartedAt: 2024-04-16 11:54:26 -0400 (Tue, 16 Apr 2024) EndedAt: 2024-04-16 11:56:44 -0400 (Tue, 16 Apr 2024) EllapsedTime: 138.1 seconds RetCode: 0 Status: OK PackageFile: Guitar_2.18.0.tgz PackageFileSize: 3.783 MiB