Package: GeneAccord Version: 1.17.1 Command: /home/biocbuild/bbs-3.18-bioc/R/bin/R CMD INSTALL GeneAccord StartedAt: 2023-04-20 03:58:04 -0400 (Thu, 20 Apr 2023) EndedAt: 2023-04-20 03:58:24 -0400 (Thu, 20 Apr 2023) EllapsedTime: 19.8 seconds RetCode: 0 Status: OK