Package: GOsummaries Version: 2.37.0 Command: F:\biocbuild\bbs-3.18-bioc\R\bin\R.exe CMD check --no-multiarch --install=check:GOsummaries.install-out.txt --library=F:\biocbuild\bbs-3.18-bioc\R\library --no-vignettes --timings GOsummaries_2.37.0.tar.gz StartedAt: 2023-06-21 00:44:29 -0400 (Wed, 21 Jun 2023) EndedAt: 2023-06-21 00:45:54 -0400 (Wed, 21 Jun 2023) EllapsedTime: 85.0 seconds RetCode: 0 Status: OK CheckDir: GOsummaries.Rcheck Warnings: 0