Package: GMRP Version: 1.30.0 Command: chmod a+r GMRP -R && F:\biocbuild\bbs-3.18-bioc\R\bin\R.exe CMD build --keep-empty-dirs --no-resave-data GMRP StartedAt: 2024-04-15 18:49:23 -0400 (Mon, 15 Apr 2024) EndedAt: 2024-04-15 18:49:50 -0400 (Mon, 15 Apr 2024) EllapsedTime: 26.3 seconds RetCode: 0 Status: OK PackageFile: GMRP_1.30.0.tar.gz PackageFileSize: 900 KiB