Package: GENIE3 Version: 1.24.0 Command: /Library/Frameworks/R.framework/Resources/bin/R CMD build --keep-empty-dirs --no-resave-data GENIE3 StartedAt: 2024-04-15 18:54:05 -0400 (Mon, 15 Apr 2024) EndedAt: 2024-04-15 18:54:20 -0400 (Mon, 15 Apr 2024) EllapsedTime: 15.3 seconds RetCode: 0 Status: OK PackageFile: GENIE3_1.24.0.tar.gz PackageFileSize: 241.4 KiB