Package: GDCRNATools Version: 1.22.0 Command: /home/biocbuild/bbs-3.18-bioc/R/bin/R CMD check --install=check:GDCRNATools.install-out.txt --library=/home/biocbuild/bbs-3.18-bioc/R/site-library --timings GDCRNATools_1.22.0.tar.gz StartedAt: 2024-04-15 22:58:27 -0400 (Mon, 15 Apr 2024) EndedAt: 2024-04-15 23:04:03 -0400 (Mon, 15 Apr 2024) EllapsedTime: 335.8 seconds RetCode: 0 Status: OK CheckDir: GDCRNATools.Rcheck Warnings: 0