Package: FunChIP Version: 1.28.0 Command: /Library/Frameworks/R.framework/Resources/bin/R CMD build --keep-empty-dirs --no-resave-data FunChIP StartedAt: 2024-03-03 16:46:29 -0500 (Sun, 03 Mar 2024) EndedAt: 2024-03-03 16:50:25 -0500 (Sun, 03 Mar 2024) EllapsedTime: 236.2 seconds RetCode: 0 Status: OK PackageFile: FunChIP_1.28.0.tar.gz PackageFileSize: 23.01 MiB