Package: Dune Version: 1.14.0 Command: /Library/Frameworks/R.framework/Resources/bin/R CMD build --keep-empty-dirs --no-resave-data Dune StartedAt: 2024-04-15 18:25:52 -0400 (Mon, 15 Apr 2024) EndedAt: 2024-04-15 18:27:13 -0400 (Mon, 15 Apr 2024) EllapsedTime: 81.6 seconds RetCode: 0 Status: OK PackageFile: Dune_1.14.0.tar.gz PackageFileSize: 2.295 MiB